BEGIN:VCALENDAR
VERSION:2.0
PRODID:-//Ax Animation - ECPv6.9.0//NONSGML v1.0//EN
CALSCALE:GREGORIAN
METHOD:PUBLISH
X-WR-CALNAME:Ax Animation
X-ORIGINAL-URL:https://www.ax-animation.com
X-WR-CALDESC:Évènements pour Ax Animation
REFRESH-INTERVAL;VALUE=DURATION:PT1H
X-Robots-Tag:noindex
X-PUBLISHED-TTL:PT1H
BEGIN:VTIMEZONE
TZID:Europe/Paris
BEGIN:DAYLIGHT
TZOFFSETFROM:+0100
TZOFFSETTO:+0200
TZNAME:CEST
DTSTART:20250330T010000
END:DAYLIGHT
BEGIN:STANDARD
TZOFFSETFROM:+0200
TZOFFSETTO:+0100
TZNAME:CET
DTSTART:20251026T010000
END:STANDARD
END:VTIMEZONE
BEGIN:VEVENT
DTSTART;TZID=Europe/Paris:20250925T203000
DTEND;TZID=Europe/Paris:20250925T230000
DTSTAMP:20260421T105905
CREATED:20250827T172929Z
LAST-MODIFIED:20250827T172934Z
UID:19155-1758832200-1758841200@www.ax-animation.com
SUMMARY:Cinéma - VALEUR SENTIMENTALE
DESCRIPTION:MENU\n			\n			\n				\n				\n				\n				\n			\n				\n				\n			\n				\n				\n				\n				\n				\n				\n				\n				\n				\n				\n				\n				\n				\n				\n				\n				\n				\n				VALEUR SENTIMENTALE\n\n\n\n\n\nen salle | 2h 13min | Comédie dramatique\, Drame\, ComédieDe Joachim Trier | Par Joachim Trier\, Eskil VogtAvec Renate Reinsve\, Stellan Skarsgård\, Inga Ibsdotter LilleaasTitre original Sentimental Value \n\n\n\n\nAgnes et Nora voient leur père débarquer après de longues années d’absence. Réalisateur de renom\, il propose à Nora\, comédienne de théâtre\, de jouer dans son prochain film\, mais celle-ci refuse avec défiance. Il propose alors le rôle à une jeune star hollywoodienne\, ravivant des souvenirs de famille douloureux. \nTarifs : \n\n\n\n\n\n* normal : 6 €\n* réduit : 4 € (adhérents Ax-Anim\, demandeurs d’emploi\, – de 16 ans\, étudiants\, sur présentation d’un justificatif)\n* abonnement 5 séances (valable 6 mois) : 25€\n\n\n\n\n\n\n\n\n 
URL:https://www.ax-animation.com/evenements/cinema-valeur-sentimentale/
LOCATION:Cinéma du Casino\, Promenade Paul Salette\, Ax-les-Thermes\, 09110\, France
CATEGORIES:Cinéma
ATTACH;FMTTYPE=image/jpeg:https://www.ax-animation.com/wp-content/uploads/2025/08/Valeur-sentimentale.jpg
ORGANIZER;CN="Ax Animation":MAILTO:contact@ax-animation.com
END:VEVENT
END:VCALENDAR