BEGIN:VCALENDAR
VERSION:2.0
PRODID:-//Ax Animation - ECPv6.9.0//NONSGML v1.0//EN
CALSCALE:GREGORIAN
METHOD:PUBLISH
X-ORIGINAL-URL:https://www.ax-animation.com
X-WR-CALDESC:Évènements pour Ax Animation
REFRESH-INTERVAL;VALUE=DURATION:PT1H
X-Robots-Tag:noindex
X-PUBLISHED-TTL:PT1H
BEGIN:VTIMEZONE
TZID:Europe/Paris
BEGIN:DAYLIGHT
TZOFFSETFROM:+0100
TZOFFSETTO:+0200
TZNAME:CEST
DTSTART:20250330T010000
END:DAYLIGHT
BEGIN:STANDARD
TZOFFSETFROM:+0200
TZOFFSETTO:+0100
TZNAME:CET
DTSTART:20251026T010000
END:STANDARD
END:VTIMEZONE
BEGIN:VEVENT
DTSTART;TZID=Europe/Paris:20250927T170000
DTEND;TZID=Europe/Paris:20250927T190000
DTSTAMP:20260421T141019
CREATED:20250828T105445Z
LAST-MODIFIED:20250828T105453Z
UID:19170-1758992400-1758999600@www.ax-animation.com
SUMMARY:Cinéma - LES BAD GUYS 2
DESCRIPTION:MENU\n			\n			\n				\n				\n				\n				\n			\n				\n				\n			\n				\n				\n				\n				\n				\n				\n				\n				\n				\n				\n				\n				\n				\n				\n				\n				\n				\n				LES BAD GUYS 2\n\n\n\n\n\nen salle | 1h 44min | Animation\, Famille\, ComédieDe Pierre Perifel\, Juan Pablo Sans | Par Aaron BlabeyAvec Pierre Niney\, Sam Rockwell\, Jean-Pascal ZadiTitre original The Bad Guys 2 \n\n\n\n\nLes criminels animaliers s’efforcent de se faire à leur nouvelle vie de gentils. Bientôt\, ils sont tirés de leur retraite et forcés de faire « un dernier travail » par une équipe entièrement féminine. \nTarifs : \n\n\n\n\n\n* normal : 6 €\n* réduit : 4 € (adhérents Ax-Anim\, demandeurs d’emploi\, – de 16 ans\, étudiants\, sur présentation d’un justificatif)\n* abonnement 5 séances (valable 6 mois) : 25€\n\n\n\n\n\n\n\n\n 
URL:https://www.ax-animation.com/evenements/cinema-les-bad-guys-2/
LOCATION:Cinéma du Casino\, Promenade Paul Salette\, Ax-les-Thermes\, 09110\, France
CATEGORIES:Cinéma
ATTACH;FMTTYPE=image/jpeg:https://www.ax-animation.com/wp-content/uploads/2025/08/les-bad-guys-2_.jpg
ORGANIZER;CN="Ax Animation":MAILTO:contact@ax-animation.com
END:VEVENT
BEGIN:VEVENT
DTSTART;TZID=Europe/Paris:20250927T203000
DTEND;TZID=Europe/Paris:20250927T223000
DTSTAMP:20260421T141019
CREATED:20250828T105854Z
LAST-MODIFIED:20250828T105858Z
UID:19177-1759005000-1759012200@www.ax-animation.com
SUMMARY:Cinéma - FILS DE
DESCRIPTION:MENU\n			\n			\n				\n				\n				\n				\n			\n				\n				\n			\n				\n				\n				\n				\n				\n				\n				\n				\n				\n				\n				\n				\n				\n				\n				\n				\n				\n				FILS DE\n\n\n\n\n\nen salle | 1h 45min | ComédieDe Carlos Abascal Peiró | Par Carlos Abascal PeiróAvec Jean Chevalier\, François Cluzet\, Karin Viard \n\n\n\n\nUne semaine après la présidentielle\, la France cherche toujours son Premier Ministre. Nino\, jeune attaché parlementaire ambitieux\, est missionné pour convaincre son père\, Lionel Perrin d’accepter le poste. Mais cet éternel perdant a coupé les ponts avec la politique…et son fils. Nino se retrouve embarqué dans une course effrénée où tous les coups sont permis. Il a 24h pour sauver sa carrière\, son couple et si possible l’avenir de la France ! \nTarifs : \n\n\n\n\n\n* normal : 6 €\n* réduit : 4 € (adhérents Ax-Anim\, demandeurs d’emploi\, – de 16 ans\, étudiants\, sur présentation d’un justificatif)\n* abonnement 5 séances (valable 6 mois) : 25€\n\n\n\n\n\n\n\n\n 
URL:https://www.ax-animation.com/evenements/cinema-fils-de/
LOCATION:Cinéma du Casino\, Promenade Paul Salette\, Ax-les-Thermes\, 09110\, France
CATEGORIES:Cinéma
ATTACH;FMTTYPE=image/jpeg:https://www.ax-animation.com/wp-content/uploads/2025/08/FILS-DE_.jpg
ORGANIZER;CN="Ax Animation":MAILTO:contact@ax-animation.com
END:VEVENT
END:VCALENDAR