BEGIN:VCALENDAR
VERSION:2.0
PRODID:-//Ax Animation - ECPv6.9.0//NONSGML v1.0//EN
CALSCALE:GREGORIAN
METHOD:PUBLISH
X-WR-CALNAME:Ax Animation
X-ORIGINAL-URL:https://www.ax-animation.com
X-WR-CALDESC:Évènements pour Ax Animation
REFRESH-INTERVAL;VALUE=DURATION:PT1H
X-Robots-Tag:noindex
X-PUBLISHED-TTL:PT1H
BEGIN:VTIMEZONE
TZID:Europe/Paris
BEGIN:DAYLIGHT
TZOFFSETFROM:+0100
TZOFFSETTO:+0200
TZNAME:CEST
DTSTART:20260329T010000
END:DAYLIGHT
BEGIN:STANDARD
TZOFFSETFROM:+0200
TZOFFSETTO:+0100
TZNAME:CET
DTSTART:20261025T010000
END:STANDARD
END:VTIMEZONE
BEGIN:VEVENT
DTSTART;TZID=Europe/Paris:20260423T203000
DTEND;TZID=Europe/Paris:20260423T223000
DTSTAMP:20260423T015254
CREATED:20260323T102603Z
LAST-MODIFIED:20260323T102607Z
UID:20731-1776976200-1776983400@www.ax-animation.com
SUMMARY:Cinéma - LOVE ON TRIAL
DESCRIPTION:MENU\n			\n			\n				\n				\n				\n				\n			\n				\n				\n			\n				\n				\n				\n				\n				\n				\n				\n				\n				\n				\n				\n				\n				\n				\n				\n				\n				\n				LOVE ON TRIAL\n\n\n\n\n\nen salle | 2h 03min | DrameDe Kôji Fukada | Par Shintaro Mitani\, Kôji FukadaAvec Kyoko Saito\, Yuki Kura\, Erika KarataTitre original Renai saibanVOSTFR \n\n\n\n\nTout publicJeune idole de la pop en pleine ascension\, Mai commet l’irréparable : tomber amoureuse\, malgré l’interdiction formelle inscrite dans son contrat. Lorsque sa relation éclate au grand jour\, Mai est traînée par sa propre agence devant la justice. Confrontés à une machine implacable\, les deux amants décident de se battre pour défendre leur droit le plus universel : celui d’aimer. \nTarifs : \n\n\n\n\n\n* normal : 6 €\n* réduit : 4 € (adhérents Ax-Anim\, demandeurs d’emploi\, – de 16 ans\, étudiants\, sur présentation d’un justificatif)\n* abonnement 5 séances (valable 6 mois) : 25€\n\n\n\n\n\n\n\n\n 
URL:https://www.ax-animation.com/evenements/cinema-love-on-trial/
LOCATION:Cinéma du Casino\, Promenade Paul Salette\, Ax-les-Thermes\, 09110\, France
CATEGORIES:Cinéma
ATTACH;FMTTYPE=image/jpeg:https://www.ax-animation.com/wp-content/uploads/2026/03/love-on-trial_.jpg
ORGANIZER;CN="Ax Animation":MAILTO:contact@ax-animation.com
END:VEVENT
END:VCALENDAR