BEGIN:VCALENDAR
VERSION:2.0
PRODID:-//Ax Animation - ECPv6.9.0//NONSGML v1.0//EN
CALSCALE:GREGORIAN
METHOD:PUBLISH
X-WR-CALNAME:Ax Animation
X-ORIGINAL-URL:https://www.ax-animation.com
X-WR-CALDESC:Évènements pour Ax Animation
REFRESH-INTERVAL;VALUE=DURATION:PT1H
X-Robots-Tag:noindex
X-PUBLISHED-TTL:PT1H
BEGIN:VTIMEZONE
TZID:Europe/Paris
BEGIN:DAYLIGHT
TZOFFSETFROM:+0100
TZOFFSETTO:+0200
TZNAME:CEST
DTSTART:20260329T010000
END:DAYLIGHT
BEGIN:STANDARD
TZOFFSETFROM:+0200
TZOFFSETTO:+0100
TZNAME:CET
DTSTART:20261025T010000
END:STANDARD
END:VTIMEZONE
BEGIN:VEVENT
DTSTART;TZID=Europe/Paris:20260424T203000
DTEND;TZID=Europe/Paris:20260424T224500
DTSTAMP:20260424T020552
CREATED:20260323T103004Z
LAST-MODIFIED:20260323T103008Z
UID:20738-1777062600-1777070700@www.ax-animation.com
SUMMARY:Cinéma - CHRISTY
DESCRIPTION:MENU\n			\n			\n				\n				\n				\n				\n			\n				\n				\n			\n				\n				\n				\n				\n				\n				\n				\n				\n				\n				\n				\n				\n				\n				\n				\n				\n				\n				CHRISTY\n\n\n\n\n\nen salle | 2h 15min | Biopic\, DrameDe David Michôd | Par Mirrah Foulkes\, David MichôdAvec Sydney Sweeney\, Ben Foster\, Merritt WeverVOSTFR \n\n\n\n\nInterdit – 12 ans avec avertissement (ce film traite de violences conjugales imposées à une jeune femme dans le but d’annihiler sa personnalité\, créant ainsi un climat de tension de nature à troubler un jeune public) \nInspiré d’une histoire vraie\, Christy retrace l’ascension tumultueuse de la boxeuse Christy Martin\, qui est passée de l’anonymat à la célébrité. La légendaire ténacité de Christy sur le ring cache en réalité des combats plus intimes avec sa famille\, son identité et une relation toxique qui pourrait bien se transformer en une question de vie ou de mort. \nTarifs : \n\n\n\n\n\n* normal : 6 €\n* réduit : 4 € (adhérents Ax-Anim\, demandeurs d’emploi\, – de 16 ans\, étudiants\, sur présentation d’un justificatif)\n* abonnement 5 séances (valable 6 mois) : 25€\n\n\n\n\n\n\n\n\n 
URL:https://www.ax-animation.com/evenements/cinema-christy/
LOCATION:Cinéma du Casino\, Promenade Paul Salette\, Ax-les-Thermes\, 09110\, France
CATEGORIES:Cinéma
ATTACH;FMTTYPE=image/jpeg:https://www.ax-animation.com/wp-content/uploads/2026/03/christy_.jpg
ORGANIZER;CN="Ax Animation":MAILTO:contact@ax-animation.com
END:VEVENT
END:VCALENDAR