BEGIN:VCALENDAR
VERSION:2.0
PRODID:-//Ax Animation - ECPv6.9.0//NONSGML v1.0//EN
CALSCALE:GREGORIAN
METHOD:PUBLISH
X-WR-CALNAME:Ax Animation
X-ORIGINAL-URL:https://www.ax-animation.com
X-WR-CALDESC:Évènements pour Ax Animation
REFRESH-INTERVAL;VALUE=DURATION:PT1H
X-Robots-Tag:noindex
X-PUBLISHED-TTL:PT1H
BEGIN:VTIMEZONE
TZID:Europe/Paris
BEGIN:DAYLIGHT
TZOFFSETFROM:+0100
TZOFFSETTO:+0200
TZNAME:CEST
DTSTART:20260329T010000
END:DAYLIGHT
BEGIN:STANDARD
TZOFFSETFROM:+0200
TZOFFSETTO:+0100
TZNAME:CET
DTSTART:20261025T010000
END:STANDARD
END:VTIMEZONE
BEGIN:VEVENT
DTSTART;TZID=Europe/Paris:20260425T180000
DTEND;TZID=Europe/Paris:20260425T194500
DTSTAMP:20260425T013802
CREATED:20260323T103339Z
LAST-MODIFIED:20260323T103342Z
UID:20745-1777140000-1777146300@www.ax-animation.com
SUMMARY:Cinéma - JUMPERS
DESCRIPTION:MENU\n			\n			\n				\n				\n				\n				\n			\n				\n				\n			\n				\n				\n				\n				\n				\n				\n				\n				\n				\n				\n				\n				\n				\n				\n				\n				\n				\n				JUMPERS\n\n\n\n\n\nen salle | 1h 45min | Animation\, Aventure\, ComédieDe Daniel Chong | Par Jesse Andrews\, Daniel ChongAvec Mallory Wanecque\, Piper Curda\, ArtusTitre original Hoppers \n\n\n\n\nTout public – dès 6 ansMabel\, une adolescente passionnée par les animaux\, saute (littéralement !) sur l’occasion d’essayer une nouvelle technologie révolutionnaire permettant de communiquer avec eux d’une manière totalement inédite… en se glissant dans la peau d’une adorable femelle castor. Conçu par des scientifiques visionnaires\, ce dispositif permet de transférer la conscience humaine dans le corps de robots-animaux plus vrais que nature. Mabel se lance alors dans une aventure unique et riche en découvertes au cœur du règne animal. \nTarifs : \n\n\n\n\n\n* normal : 6 €\n* réduit : 4 € (adhérents Ax-Anim\, demandeurs d’emploi\, – de 16 ans\, étudiants\, sur présentation d’un justificatif)\n* abonnement 5 séances (valable 6 mois) : 25€\n\n\n\n\n\n\n\n\n 
URL:https://www.ax-animation.com/evenements/cinema-jumpers/
LOCATION:Cinéma du Casino\, Promenade Paul Salette\, Ax-les-Thermes\, 09110\, France
CATEGORIES:Cinéma
ATTACH;FMTTYPE=image/jpeg:https://www.ax-animation.com/wp-content/uploads/2026/03/JUMPERS_.jpg
ORGANIZER;CN="Ax Animation":MAILTO:contact@ax-animation.com
END:VEVENT
BEGIN:VEVENT
DTSTART;TZID=Europe/Paris:20260425T203000
DTEND;TZID=Europe/Paris:20260425T223000
DTSTAMP:20260425T013802
CREATED:20260323T103751Z
LAST-MODIFIED:20260323T103754Z
UID:20753-1777149000-1777156200@www.ax-animation.com
SUMMARY:Cinéma - CEUX QUI COMPTENT
DESCRIPTION:MENU\n			\n			\n				\n				\n				\n				\n			\n				\n				\n			\n				\n				\n				\n				\n				\n				\n				\n				\n				\n				\n				\n				\n				\n				\n				\n				\n				\n				CEUX QUI COMPTENT\n\n\n\n\n\nen salle | 1h 38min | Comédie dramatiqueDe Jean-Baptiste Leonetti | Par Jean-Baptiste LeonettiAvec Sandrine Kiberlain\, Pierre Lottin\, Louise Labeque \n\n\n\n\nTout public \nRose et Jean n’ont rien en commun. Rose est une force de la nature qui affronte tous ses problèmes avec une désarmante joie de vivre. Elle campe avec ses 3 enfants à l’étage de l’hôtel de famille qui ne leur appartient plus\, et non\, ils ne sont pas pauvres\, ils sont fauchés. C’est temporaire. Jean est un homme solitaire et taciturne qui a fini par enfouir son grand cœur sous des couches de pudeur et de résignation. Quand il arrive malgré lui dans cette famille hors norme\, il va très vite devenir indispensable. Qu’attendaient-ils avant de se rencontrer ? Sans doute plus rien. Et pourtant\, ensemble\, tout va devenir possible. \nTarifs : \n\n\n\n\n\n* normal : 6 €\n* réduit : 4 € (adhérents Ax-Anim\, demandeurs d’emploi\, – de 16 ans\, étudiants\, sur présentation d’un justificatif)\n* abonnement 5 séances (valable 6 mois) : 25€\n\n\n\n\n\n\n\n\n 
URL:https://www.ax-animation.com/evenements/cinema-ceux-qui-comptent/
LOCATION:Cinéma du Casino\, Promenade Paul Salette\, Ax-les-Thermes\, 09110\, France
CATEGORIES:Cinéma
ATTACH;FMTTYPE=image/jpeg:https://www.ax-animation.com/wp-content/uploads/2026/03/ceux-qui-comptent_.jpg
ORGANIZER;CN="Ax Animation":MAILTO:contact@ax-animation.com
END:VEVENT
END:VCALENDAR